BEGIN:VCALENDAR
VERSION:2.0
PRODID:-//ChamberMaster//Event Calendar 2.0//EN
METHOD:PUBLISH
X-PUBLISHED-TTL:P3D
REFRESH-INTERVAL:P3D
CALSCALE:GREGORIAN
BEGIN:VEVENT
DTSTART:20200824T210000Z
DTEND:20200824T213000Z
X-MICROSOFT-CDO-ALLDAYEVENT:FALSE
SUMMARY:PAC Meeting
DESCRIPTION:PAC Meeting
X-ALT-DESC;FMTTYPE=text/html:PAC Meeting
LOCATION:Suncoast Builders Association Office 6650 Professional Pkwy West\, Suite 102 Sarasota\, FL 34240 (in Lakewood Ranch).
UID:e.9232.2617
SEQUENCE:3
DTSTAMP:20260423T182940Z
URL:https://business.suncoastba.org/events/details/pac-meeting-2617
END:VEVENT

END:VCALENDAR
