BEGIN:VCALENDAR
VERSION:2.0
PRODID:-//ChamberMaster//Event Calendar 2.0//EN
METHOD:PUBLISH
X-PUBLISHED-TTL:P3D
REFRESH-INTERVAL:P3D
CALSCALE:GREGORIAN
BEGIN:VEVENT
DTSTART:20210220T150000Z
DTEND:20210314T050000Z
X-MICROSOFT-CDO-ALLDAYEVENT:FALSE
SUMMARY:Parade of Homes
DESCRIPTION:We're pleased to offer this outstanding collection of Gulf Coast properties   quality built luxury homes in a wide range of prices to meet your particular needs. From private gated communities\, custom golf course homes\, waterfront or beachfront properties\, to affordable family-oriented urban developments\, you're sure to find your perfect West Coast Florida home here. \n\n\n\nFor Entry Packets\, Click Here.\n\n\n\nFor Sponsorship Packets\, Click Here.
X-ALT-DESC;FMTTYPE=text/html:<span style="font-size: 14px\;"><span style="font-family: arial\;"><span style="line-height: 17px\;">We&rsquo\;re pleased to offer this outstanding collection of Gulf Coast properties &ndash\; quality built luxury homes in a wide range of prices to meet your particular needs. From private gated communities\, custom golf course homes\, waterfront or beachfront properties\, to affordable family-oriented urban developments\, you&rsquo\;re sure to find your perfect West Coast Florida home here.&nbsp\;</span></span></span><br />\n<br />\nFor Entry Packets\, Click <a href="https://chambermaster.blob.core.windows.net/userfiles/UserFiles/chambers/9232/File/2021POHEntryPacket.pdf">Here.</a><br />\n<br />\nFor Sponsorship Packets\, Click <a href="https://chambermaster.blob.core.windows.net/userfiles/UserFiles/chambers/9232/File/2021POHSponsorshipPacket.pdf">Here.</a>
LOCATION:Multi location scattered site Parade throughout Manatee and Sarasota Counties.
UID:e.9232.2623
SEQUENCE:3
DTSTAMP:20260423T071946Z
URL:https://business.suncoastba.org/events/details/parade-of-homes-2623
END:VEVENT

END:VCALENDAR
