BEGIN:VCALENDAR
VERSION:2.0
PRODID:-//ChamberMaster//Event Calendar 2.0//EN
METHOD:PUBLISH
X-PUBLISHED-TTL:P3D
REFRESH-INTERVAL:P3D
CALSCALE:GREGORIAN
BEGIN:VEVENT
DTSTART:20160303T230000Z
DTEND:20160304T030000Z
X-MICROSOFT-CDO-ALLDAYEVENT:FALSE
SUMMARY:Parade of Homes Award Presentation
DESCRIPTION:Join us for an amazing night with your fellow members honoring our builders and subcontractors for the best of the 2016 Parade of Homes. Dress is cocktail party attire and there will be lots of photo ops so be sure to look your most fabulous! Dinner is include. There will be a cash bar.
X-ALT-DESC;FMTTYPE=text/html:Join us for an amazing night with your fellow members honoring our builders and subcontractors for the best of the 2016 Parade of Homes. Dress is cocktail party attire and there will be lots of photo ops so be sure to look your most fabulous! Dinner is include. There will be a cash bar.
LOCATION:Hyatt Sarasota 1000 Boulevard of the Arts Sarasota\, FL 34236
UID:e.9232.1255
SEQUENCE:3
DTSTAMP:20260421T151550Z
URL:https://business.suncoastba.org/events/details/parade-of-homes-award-presentation-03-03-2016-1255
END:VEVENT

END:VCALENDAR
