BEGIN:VCALENDAR
VERSION:2.0
PRODID:-//ChamberMaster//Event Calendar 2.0//EN
METHOD:PUBLISH
X-PUBLISHED-TTL:P3D
REFRESH-INTERVAL:P3D
CALSCALE:GREGORIAN
BEGIN:VEVENT
DTSTART:20210304T230000Z
DTEND:20210305T023000Z
X-MICROSOFT-CDO-ALLDAYEVENT:FALSE
SUMMARY:Parade of Homes Awards Gala
DESCRIPTION:Join us for a Hawaiian Luau with your fellow members honoring our builders and subcontractors for the best of the 2021 Parade of Homes.\n\n\n\nThis event will adhere to CDC guidelines. Happy hour is outside\, tables will be spread further apart to promote distancing\, masks will be offered at door and there will be smaller groups of 6 people at each table.\n\n\n\nDress is Hawaiian or Cocktail Attire (casual is encouraged this year)\, there will be lots of photo ops so be sure to look your most fabulous! Dinner is included. There will be a cash bar.
X-ALT-DESC;FMTTYPE=text/html:<span background-color:="" font-size:="" style="" trebuchet=""><span style="font-size: 14px\;">Join us for a Hawaiian Luau with your fellow members honoring our builders and subcontractors for the best of the 2021 Parade of Homes.</span></span><br />\n<br />\n<span style="color: rgba(0\, 0\, 0\, 0.9)\; font-family: -apple-system\, system-ui\, BlinkMacSystemFont\, &quot\;Segoe UI&quot\;\, Roboto\, &quot\;Helvetica Neue&quot\;\, &quot\;Fira Sans&quot\;\, Ubuntu\, Oxygen\, &quot\;Oxygen Sans&quot\;\, Cantarell\, &quot\;Droid Sans&quot\;\, &quot\;Apple Color Emoji&quot\;\, &quot\;Segoe UI Emoji&quot\;\, &quot\;Segoe UI Symbol&quot\;\, &quot\;Lucida Grande&quot\;\, Helvetica\, Arial\, sans-serif\; font-size: 14px\; background-color: rgb(255\, 255\, 255)\;"><span style="font-family:arial\;">This event will adhere to CDC guidelines. Happy hour is outside\, tables will be spread further apart to promote distancing\, masks will be offered at door and there will be smaller groups of 6 people at each table.</span></span><br />\n<br />\n<span background-color:="" font-size:="" style="" trebuchet=""><span style="font-size: 14px\;">Dress is Hawaiian or Cocktail Attire (casual&nbsp\;is encouraged&nbsp\;this year)\, there will be lots of photo ops so be sure to look your most fabulous! Dinner is included. There will be a cash bar.</span></span>
LOCATION:Hyatt Sarasota 1000 Boulevard of the Arts Sarasota\, FL 34236
UID:e.9232.2625
SEQUENCE:3
DTSTAMP:20260423T065427Z
URL:https://business.suncoastba.org/events/details/parade-of-homes-awards-gala-2625
END:VEVENT

END:VCALENDAR
