BEGIN:VCALENDAR
VERSION:2.0
PRODID:-//ChamberMaster//Event Calendar 2.0//EN
METHOD:PUBLISH
X-PUBLISHED-TTL:P3D
REFRESH-INTERVAL:P3D
CALSCALE:GREGORIAN
BEGIN:VEVENT
DTSTART:20220303T230000Z
DTEND:20220304T023000Z
X-MICROSOFT-CDO-ALLDAYEVENT:FALSE
SUMMARY:Parade of Homes Awards Gala
DESCRIPTION:Join us for a Vintage Circus Gala with your fellow members honoring our builders and subcontractors for the best of the 2022 Parade of Homes.\n\n\n\nDress is Cocktail Attire\, there will be lots of photo ops so be sure to look your most fabulous! Dinner is included. There will be a cash bar.
X-ALT-DESC;FMTTYPE=text/html:<span background-color:="" font-size:="" style="" trebuchet=""><span style="font-size: 14px\;">Join us for a Vintage Circus Gala with your fellow members honoring our builders and subcontractors for the best of the 2022 Parade of Homes.</span></span><br />\n<br />\n<span background-color:="" font-size:="" style="" trebuchet=""><span style="font-size: 14px\;">Dress is Cocktail Attire\, there will be lots of photo ops so be sure to look your most fabulous! Dinner is included. There will be a cash bar.</span></span>
LOCATION:Sarasota Circus Conservatory 2075 Bahia Vista St Sarasota\, FL 34239
UID:e.9232.2689
SEQUENCE:3
DTSTAMP:20260422T141720Z
URL:https://business.suncoastba.org/events/details/parade-of-homes-awards-gala-2689
END:VEVENT

END:VCALENDAR
