BEGIN:VCALENDAR
VERSION:2.0
PRODID:-//ChamberMaster//Event Calendar 2.0//EN
METHOD:PUBLISH
X-PUBLISHED-TTL:P3D
REFRESH-INTERVAL:P3D
CALSCALE:GREGORIAN
BEGIN:VEVENT
DTSTART:20230713T220000Z
DTEND:20230714T000000Z
X-MICROSOFT-CDO-ALLDAYEVENT:FALSE
SUMMARY:PGT Member Mixer & Manufacturing Tour
DESCRIPTION:PGT Innovations looks forward to welcoming members of the Manatee Sarasota Building Industry Association to a team member Mixer and Manufacturing Tour on Thursday\, July 13th at 6 PM. Join PGT in their new Showroom with beverages and lite hors d'oeuvres followed by a series of rotating tours of their manufacturing facility.\n\n\n\nPlease RSVP with Amber Elsenheimer by Monday\, June 26th. amber@ms-bia.org
X-ALT-DESC;FMTTYPE=text/html:PGT Innovations looks forward to welcoming members of the Manatee Sarasota Building Industry Association to a team member Mixer and Manufacturing Tour on Thursday\, July 13th at 6 PM. Join PGT in their new Showroom with beverages and lite hors d&rsquo\;oeuvres followed by a series of rotating tours of their manufacturing facility.<br />\n<br />\nPlease RSVP with Amber Elsenheimer by Monday\, June 26th. amber@ms-bia.org&nbsp\;
LOCATION:PGT 1070 Technology Dr\, North Venice\, FL 34275
UID:e.9232.3211
SEQUENCE:3
DTSTAMP:20260421T141822Z
URL:https://business.suncoastba.org/events/details/pgt-member-mixer-manufacturing-tour-3211
END:VEVENT

END:VCALENDAR
