BEGIN:VCALENDAR
VERSION:2.0
PRODID:-//ChamberMaster//Event Calendar 2.0//EN
METHOD:PUBLISH
X-PUBLISHED-TTL:P3D
REFRESH-INTERVAL:P3D
CALSCALE:GREGORIAN
BEGIN:VEVENT
DTSTART:20180921T153000Z
DTEND:20180921T170000Z
X-MICROSOFT-CDO-ALLDAYEVENT:FALSE
SUMMARY:Politics & Diplomacy Lunch
DESCRIPTION:Politics and Diplomacy Luncheon with State Representative Joe Gruters.
X-ALT-DESC;FMTTYPE=text/html:Politics and Diplomacy Luncheon with State Representative Joe Gruters.
LOCATION:MSBIA Office 6650 Professional Pkwy W Suite 102 Sarasota\, FL 34240
UID:e.9232.2030
SEQUENCE:3
DTSTAMP:20260423T182401Z
URL:https://business.suncoastba.org/events/details/politics-diplomacy-lunch-2030
END:VEVENT

END:VCALENDAR
