BEGIN:VCALENDAR
VERSION:2.0
PRODID:-//ChamberMaster//Event Calendar 2.0//EN
METHOD:PUBLISH
X-PUBLISHED-TTL:P3D
REFRESH-INTERVAL:P3D
CALSCALE:GREGORIAN
BEGIN:VEVENT
DTSTART:20200202T170000Z
DTEND:20200202T210000Z
X-MICROSOFT-CDO-ALLDAYEVENT:FALSE
SUMMARY:Polo Tailgate - POSTPONED
DESCRIPTION:POSTPONED\n\n\n\nJoin us for a Polo Tailgate at The Sarasota Polo Grounds.\n\n\n\nBBQ Food provided by John Fries with Accutech Restoration & Remodeling.
X-ALT-DESC;FMTTYPE=text/html:<span style="font-size:36px\;"><strong>POSTPONED</strong></span><br />\n<br />\nJoin us for a Polo Tailgate at The Sarasota Polo Grounds.<br />\n<br />\nBBQ Food provided by John Fries with Accutech Restoration &amp\; Remodeling.<br />\n<br />\n&nbsp\;
LOCATION:Sarasota Polo Grounds 8201 Polo Club Lane LWR\, 34240
UID:e.9232.2549
SEQUENCE:3
DTSTAMP:20260424T020127Z
URL:https://business.suncoastba.org/events/details/polo-tailgate-postponed-2549
END:VEVENT

END:VCALENDAR
