BEGIN:VCALENDAR
VERSION:2.0
PRODID:-//ChamberMaster//Event Calendar 2.0//EN
METHOD:PUBLISH
X-PUBLISHED-TTL:P3D
REFRESH-INTERVAL:P3D
CALSCALE:GREGORIAN
BEGIN:VEVENT
DTSTART:20251110T160000Z
DTEND:20251110T170000Z
X-MICROSOFT-CDO-ALLDAYEVENT:FALSE
SUMMARY:**Postponed**North Port Builders Council Meeting
DESCRIPTION:*November Meeting will be postponed until December 8th*\n\nThe North Port Builder Council consists of builders and individuals involved in the City of North Port who are dedicated to ensuring fair industry legislature.\n\n\n\nIf you do business in the southern region of Sarasota County\, it is essential that you get involved with North Port Builders Council!\n\n\n\nOur monthly meeting will be held via Teams. Please register to receive Teams link.
X-ALT-DESC;FMTTYPE=text/html:<strong style="font-size: 14px\;">*November Meeting will be postponed until December 8th*</strong><br />\nThe North Port Builder Council consists of builders and individuals involved in the City of North Port who are dedicated to ensuring fair industry legislature.<br />\n<br />\nIf you do business in the southern region of Sarasota County\, it is essential that you get involved with North Port Builders Council!<br />\n<br />\nOur monthly meeting will be held via Teams. Please register to receive Teams link.
LOCATION:Meeting will be held via Teams. Please register to receive Teams link
UID:e.9232.4646
SEQUENCE:3
DTSTAMP:20260422T012254Z
URL:https://business.suncoastba.org/events/details/postponed-north-port-builders-council-meeting-11-10-2025-4646
END:VEVENT

END:VCALENDAR
