BEGIN:VCALENDAR
VERSION:2.0
PRODID:-//ChamberMaster//Event Calendar 2.0//EN
METHOD:PUBLISH
X-PUBLISHED-TTL:P3D
REFRESH-INTERVAL:P3D
CALSCALE:GREGORIAN
BEGIN:VEVENT
DTSTART:20180523T213000Z
DTEND:20180523T233000Z
X-MICROSOFT-CDO-ALLDAYEVENT:FALSE
SUMMARY:Professional Women in Building (PWB)
DESCRIPTION:Join us for our Professional Women in Building meeting. Robb & Stucky will be hosting us for an onsite business gathering. Complimentary drinks and beverages. Come meet other Professional Women in the Building Industry!
X-ALT-DESC;FMTTYPE=text/html:Join us for our&nbsp\;Professional Women in Building meeting. Robb &amp\; Stucky will be hosting us for an onsite business gathering. Complimentary drinks and beverages. Come meet other Professional Women in the Building Industry!
LOCATION:Robb & Stucky Furniture 7557 South Tamiami Trail Sarasota\, FL 34231
UID:e.9232.1883
SEQUENCE:3
DTSTAMP:20260423T111627Z
URL:https://business.suncoastba.org/events/details/professional-women-in-building-pwb-1883
END:VEVENT

END:VCALENDAR
