BEGIN:VCALENDAR
VERSION:2.0
PRODID:-//ChamberMaster//Event Calendar 2.0//EN
METHOD:PUBLISH
X-PUBLISHED-TTL:P3D
REFRESH-INTERVAL:P3D
CALSCALE:GREGORIAN
BEGIN:VEVENT
DTSTART:20180822T213000Z
DTEND:20180822T233000Z
X-MICROSOFT-CDO-ALLDAYEVENT:FALSE
SUMMARY:Professional Women in Building (PWB)
DESCRIPTION:Join us for our Professional Women in Building meeting. Kimal Lumber will be hosting us for an onsite business gathering. Complimentary drinks and beverages. Come meet other Professional Women in the Building Industry!
X-ALT-DESC;FMTTYPE=text/html:<span style="color: rgb(51\, 51\, 51)\; font-family: sans-serif\, Arial\, Verdana\, &quot\;Trebuchet MS&quot\;\; font-size: 13px\; background-color: rgb(255\, 255\, 255)\;">Join us for our&nbsp\;Professional Women in Building meeting. Kimal Lumber will be hosting us for an onsite business gathering. Complimentary drinks and beverages. Come meet other Professional Women in the Building Industry!</span>
LOCATION:Kimal Lumber & Hardware 7010 Fruitville Road Sarasota\, FL 34240
UID:e.9232.1899
SEQUENCE:3
DTSTAMP:20260423T161448Z
URL:https://business.suncoastba.org/events/details/professional-women-in-building-pwb-1899
END:VEVENT

END:VCALENDAR
