BEGIN:VCALENDAR
VERSION:2.0
PRODID:-//ChamberMaster//Event Calendar 2.0//EN
METHOD:PUBLISH
X-PUBLISHED-TTL:P3D
REFRESH-INTERVAL:P3D
CALSCALE:GREGORIAN
BEGIN:VEVENT
DTSTART:20220330T210000Z
DTEND:20220330T220000Z
X-MICROSOFT-CDO-ALLDAYEVENT:FALSE
SUMMARY:Professional Women in Building (PWB) Council Meeting
DESCRIPTION:Join us for our Professional Women in Building Council Meeting for a 2022 planning session!
X-ALT-DESC;FMTTYPE=text/html:Join us for our Professional Women in Building Council Meeting for a 2022 planning session!&nbsp\; &nbsp\;
LOCATION:Manatee-Sarasota BIA 6650 Professional Parkway West Sarasota\, FL 34240
UID:e.9232.2980
SEQUENCE:3
DTSTAMP:20260422T141823Z
URL:https://business.suncoastba.org/events/details/professional-women-in-building-pwb-council-meeting-2980
END:VEVENT

END:VCALENDAR
