BEGIN:VCALENDAR
VERSION:2.0
PRODID:-//ChamberMaster//Event Calendar 2.0//EN
METHOD:PUBLISH
X-PUBLISHED-TTL:P3D
REFRESH-INTERVAL:P3D
CALSCALE:GREGORIAN
BEGIN:VEVENT
DTSTART:20210203T223000Z
DTEND:20210204T003000Z
X-MICROSOFT-CDO-ALLDAYEVENT:FALSE
SUMMARY:PWB Galentine's Party
DESCRIPTION:Join the Professional Women in Building for a Galentine's Day mixer. Kick off 2021\, learn how to decorate your own custom cookies and make a floral arrangement.
X-ALT-DESC;FMTTYPE=text/html:Join the Professional Women in Building for a Galentine&#39\;s Day mixer. Kick off 2021\, learn how to decorate your own custom cookies and make a floral arrangement.&nbsp\;
LOCATION:MSBIA Office 6650 Professional Pkwy West Suite 102. Sarasota\, FL 34240
UID:e.9232.2630
SEQUENCE:3
DTSTAMP:20260423T091808Z
URL:https://business.suncoastba.org/events/details/pwb-galentine-s-party-2630
END:VEVENT

END:VCALENDAR
