BEGIN:VCALENDAR
VERSION:2.0
PRODID:-//ChamberMaster//Event Calendar 2.0//EN
METHOD:PUBLISH
X-PUBLISHED-TTL:P3D
REFRESH-INTERVAL:P3D
CALSCALE:GREGORIAN
BEGIN:VEVENT
DTSTART:20191112T213000Z
DTEND:20191112T221500Z
X-MICROSOFT-CDO-ALLDAYEVENT:FALSE
SUMMARY:PWB Strategic Planning Meeting
DESCRIPTION:Please join us for a Professional Women in Building Strategic Planning Meeting for our upcoming Christmas Party!
X-ALT-DESC;FMTTYPE=text/html:Please join us for a Professional Women in Building Strategic Planning Meeting for our upcoming Christmas Party!&nbsp\;
LOCATION:MSBIA Office 6650 Professional Parkway West Suite 102 Sarasota\, FL 34240
UID:e.9232.2532
SEQUENCE:3
DTSTAMP:20260424T064435Z
URL:https://business.suncoastba.org/events/details/pwb-strategic-planning-meeting-2532
END:VEVENT

END:VCALENDAR
