BEGIN:VCALENDAR
VERSION:2.0
PRODID:-//ChamberMaster//Event Calendar 2.0//EN
METHOD:PUBLISH
X-PUBLISHED-TTL:P3D
REFRESH-INTERVAL:P3D
CALSCALE:GREGORIAN
BEGIN:VEVENT
DTSTART:20180919T213000Z
DTEND:20180919T233000Z
X-MICROSOFT-CDO-ALLDAYEVENT:FALSE
SUMMARY:PWB Wine Tasting
DESCRIPTION:Professional Women in Building join us for a Wine Tasting Event at our office! Wine tasting by Glen Reid\, Total Wine and Appetizers will be provided by 2DiFore Marketing Solutions\, please bring your favorite bottle of wine to share. We will be voting on the best bottles and prizes will be given out.
X-ALT-DESC;FMTTYPE=text/html:Professional Women in Building join us for a Wine Tasting Event at our office! Wine tasting by Glen Reid\, Total Wine and Appetizers will be provided by 2DiFore Marketing Solutions\, please bring your <u>favorite</u> bottle of wine to share. We will be voting on the best bottles and prizes will be given out.
LOCATION:MSBIA Office 6650 Professional Pkwy W Suite 102 Sarasota\, FL 34240
UID:e.9232.2028
SEQUENCE:3
DTSTAMP:20260423T181703Z
URL:https://business.suncoastba.org/events/details/pwb-wine-tasting-2028
END:VEVENT

END:VCALENDAR
