BEGIN:VCALENDAR
VERSION:2.0
PRODID:-//ChamberMaster//Event Calendar 2.0//EN
METHOD:PUBLISH
X-PUBLISHED-TTL:P3D
REFRESH-INTERVAL:P3D
CALSCALE:GREGORIAN
BEGIN:VEVENT
DTSTART:20200407T220000Z
DTEND:20200408T000000Z
X-MICROSOFT-CDO-ALLDAYEVENT:FALSE
SUMMARY:Quarantine Trivia Bingo
DESCRIPTION:Join us for a Virtual Zoom Meeting\, Happy Hour & Quarantine Trivia Bingo! Here is your chance to network with your fellow members during these unprecedented times!
X-ALT-DESC;FMTTYPE=text/html:Join us for a Virtual Zoom Meeting\, Happy Hour &amp\; Quarantine Trivia Bingo! Here is your chance to network with your fellow members during these unprecedented times!
LOCATION:Zoom Meeting https://us04web.zoom.us/j/514961953
UID:e.9232.2585
SEQUENCE:3
DTSTAMP:20260423T231915Z
URL:https://business.suncoastba.org/events/details/quarantine-trivia-bingo-2585
END:VEVENT

END:VCALENDAR
