BEGIN:VCALENDAR
VERSION:2.0
PRODID:-//ChamberMaster//Event Calendar 2.0//EN
METHOD:PUBLISH
X-PUBLISHED-TTL:P3D
REFRESH-INTERVAL:P3D
CALSCALE:GREGORIAN
BEGIN:VEVENT
DTSTART:20220616T123000Z
DTEND:20220616T143000Z
X-MICROSOFT-CDO-ALLDAYEVENT:FALSE
SUMMARY:Realtor Rising
DESCRIPTION:Join us for "Realtor Rising\," a Construction Panel Discussion on how to navigate a tough market. \n\n\n\nHear straight from Builders\, Developers and Industry Experts...Learn strategies for winning in a tough market\, staying informed with all aspects of construction from start to finish and tips on become a well-versed Realtor.
X-ALT-DESC;FMTTYPE=text/html:Join us for &quot\;Realtor Rising\,&quot\; a Construction Panel Discussion on how to navigate a tough market.&nbsp\;<br />\n<br />\nHear straight from Builders\, Developers and Industry Experts...Learn strategies for winning in a tough market\, staying informed with all aspects of construction from start to finish and tips on become a well-versed Realtor.<br />\n<br />\n&nbsp\;
LOCATION:RASM Sarasota 2320 Cattlemen Road. Sarasota\, FL 34232
UID:e.9232.2982
SEQUENCE:3
DTSTAMP:20260422T095223Z
URL:https://business.suncoastba.org/events/details/realtor-rising-2982
END:VEVENT

END:VCALENDAR
