BEGIN:VCALENDAR
VERSION:2.0
PRODID:-//ChamberMaster//Event Calendar 2.0//EN
METHOD:PUBLISH
X-PUBLISHED-TTL:P3D
REFRESH-INTERVAL:P3D
CALSCALE:GREGORIAN
BEGIN:VEVENT
DTSTART:20200311T153000Z
DTEND:20200311T170000Z
X-MICROSOFT-CDO-ALLDAYEVENT:FALSE
SUMMARY:Remodeler & Builder Council Luncheon
DESCRIPTION:Join us March 11th for a Construction Law presentation by attorneys\, Peter Z. Skokos and Erik Hanson\, P.A.
X-ALT-DESC;FMTTYPE=text/html:Join us March 11th for a Construction Law presentation by attorneys\, Peter Z. Skokos and Erik Hanson\, P.A.
LOCATION:6650 Professional Parkway West Sarasota\, FL 34240
UID:e.9232.2560
SEQUENCE:3
DTSTAMP:20260424T004458Z
URL:https://business.suncoastba.org/events/details/remodeler-builder-council-luncheon-03-11-2020-2560
END:VEVENT

END:VCALENDAR
