BEGIN:VCALENDAR
VERSION:2.0
PRODID:-//ChamberMaster//Event Calendar 2.0//EN
METHOD:PUBLISH
X-PUBLISHED-TTL:P3D
REFRESH-INTERVAL:P3D
CALSCALE:GREGORIAN
BEGIN:VEVENT
DTSTART:20200212T163000Z
DTEND:20200212T180000Z
X-MICROSOFT-CDO-ALLDAYEVENT:FALSE
SUMMARY:Remodeler & Builder Council Luncheon
DESCRIPTION:Join us for a Remodeler & Builder Council Lunch and Learn.\n\nThis month's topic will be Motorized Screens & Sealing Products.
X-ALT-DESC;FMTTYPE=text/html:<strong><span style="color: rgb(51\, 51\, 51)\; font-family: sans-serif\, Arial\, Verdana\, &quot\;Trebuchet MS&quot\;\; font-size: 13px\; background-color: rgb(255\, 255\, 255)\;">Join us for a Remodeler &amp\; Builder Council Lunch and Learn.<br />\nThis month&#39\;s topic will be Motorized Screens &amp\; Sealing Products.</span></strong><br />\n<br />\n&nbsp\;
LOCATION:6650 Professional Parkway West Suite 102 Sarasota\, FL 34240
UID:e.9232.2552
SEQUENCE:3
DTSTAMP:20260424T020836Z
URL:https://business.suncoastba.org/events/details/remodeler-builder-council-luncheon-2552
END:VEVENT

END:VCALENDAR
