BEGIN:VCALENDAR
VERSION:2.0
PRODID:-//ChamberMaster//Event Calendar 2.0//EN
METHOD:PUBLISH
X-PUBLISHED-TTL:P3D
REFRESH-INTERVAL:P3D
CALSCALE:GREGORIAN
BEGIN:VEVENT
DTSTART:20200819T153000Z
DTEND:20200819T170000Z
X-MICROSOFT-CDO-ALLDAYEVENT:FALSE
SUMMARY:Remodeler's Council Luncheon
DESCRIPTION:Join us for a Remodeler's Lunch and Learn. This month's topic will "Civil Engineering" presented by George F. Young Engineering
X-ALT-DESC;FMTTYPE=text/html:<br>\nJoin us for a Remodeler's Lunch and Learn. This month's topic will "Civil Engineering" presented by George F. Young Engineering
LOCATION:MSBIA Office 6650 Professional Pkwy W Suite 102 Sarasota\, FL 34240
UID:e.9232.2614
SEQUENCE:3
DTSTAMP:20260423T172008Z
URL:https://business.suncoastba.org/events/details/remodeler-s-council-luncheon-2614
END:VEVENT

END:VCALENDAR
