BEGIN:VCALENDAR
VERSION:2.0
PRODID:-//ChamberMaster//Event Calendar 2.0//EN
METHOD:PUBLISH
X-PUBLISHED-TTL:P3D
REFRESH-INTERVAL:P3D
CALSCALE:GREGORIAN
BEGIN:VEVENT
DTSTART:20200923T153000Z
DTEND:20200923T170000Z
X-MICROSOFT-CDO-ALLDAYEVENT:FALSE
SUMMARY:Remodeler's Council Luncheon
DESCRIPTION:Join us for a Remodeler's Lunch and Learn. This month's topic will be "Are You In Control Of Your Business or Is It Controlling You?" presented by Carmen D'Ambrosio from Business Accountability Coach.
X-ALT-DESC;FMTTYPE=text/html:<br />\nJoin us for a Remodeler&#39\;s Lunch and Learn. This month&#39\;s topic will be &quot\;Are You In Control Of Your Business or Is It Controlling You?&quot\; presented by Carmen D&#39\;Ambrosio from Business Accountability Coach.
LOCATION:MSBIA Office 6650 Professional Pkwy W Suite 102 Sarasota\, FL 34240
UID:e.9232.2619
SEQUENCE:3
DTSTAMP:20260423T154930Z
URL:https://business.suncoastba.org/events/details/remodeler-s-council-luncheon-2619
END:VEVENT

END:VCALENDAR
