BEGIN:VCALENDAR
VERSION:2.0
PRODID:-//ChamberMaster//Event Calendar 2.0//EN
METHOD:PUBLISH
X-PUBLISHED-TTL:P3D
REFRESH-INTERVAL:P3D
CALSCALE:GREGORIAN
BEGIN:VEVENT
DTSTART:20150416T153000Z
DTEND:20150416T170000Z
X-MICROSOFT-CDO-ALLDAYEVENT:FALSE
SUMMARY:Remodelers Council Meeting
DESCRIPTION:Greg Yantorno will be our guest speaker at the April 16 RC meeting for a building code update.
X-ALT-DESC;FMTTYPE=text/html:<span style="color: rgb(34\, 34\, 34)\; font-family: arial\, sans-serif\; font-size: 12.8000001907349px\; line-height: normal\;">Greg Yantorno will be our guest speaker at the&nbsp\;</span><span class="aBn" data-term="goog_575636070" style="border-bottom-width: 1px\; border-bottom-style: dashed\; border-bottom-color: rgb(204\, 204\, 204)\; position: relative\; top: -2px\; z-index: 0\; color: rgb(34\, 34\, 34)\; font-family: arial\, sans-serif\; font-size: 12.8000001907349px\; line-height: normal\;" tabindex="0"><span class="aQJ" style="position: relative\; top: 2px\; z-index: -1\;">April 16</span></span><span style="color: rgb(34\, 34\, 34)\; font-family: arial\, sans-serif\; font-size: 12.8000001907349px\; line-height: normal\;">&nbsp\;RC meeting for a building code update.</span>
LOCATION:MSBIA Office 6983 Professional Parkway East Sarasota\, FL 34240
UID:e.9232.6
SEQUENCE:3
DTSTAMP:20260422T011803Z
URL:https://business.suncoastba.org/events/details/remodelers-council-meeting-04-16-2015-6
END:VEVENT

END:VCALENDAR
