BEGIN:VCALENDAR
VERSION:2.0
PRODID:-//ChamberMaster//Event Calendar 2.0//EN
METHOD:PUBLISH
X-PUBLISHED-TTL:P3D
REFRESH-INTERVAL:P3D
CALSCALE:GREGORIAN
BEGIN:VEVENT
DTSTART:20150820T153000Z
DTEND:20150820T170000Z
X-MICROSOFT-CDO-ALLDAYEVENT:FALSE
SUMMARY:Remodelers Council Meeting
DESCRIPTION:Construction Law\, Liens and Bonding Part 2 - (Continuing Education Presentation...Part 3 to be presented at a later date for full credit)\n\n\n\nNew Challenges for Remodelers from New Governments in DC\, Tallahassee and Sarasota-Manatee\n\n\n\nPresented by: David E. Gurley
X-ALT-DESC;FMTTYPE=text/html:<span style="line-height: 20.7999992370605px\;">Construction Law\, Liens and Bonding Part 2 - (Continuing Education Presentation...Part 3 to be presented at a later date for full credit)</span><br style="line-height: 20.7999992370605px\;" />\n<br style="line-height: 20.7999992370605px\;" />\n<span style="line-height: 20.7999992370605px\;">New Challenges for&nbsp\;</span>Remodelers<span style="line-height: 20.7999992370605px\;">&nbsp\;from New Governments in DC\, Tallahassee and Sarasota-Manatee</span><br style="line-height: 20.7999992370605px\;" />\n<br style="line-height: 20.7999992370605px\;" />\n<span style="line-height: 20.7999992370605px\;">Presented by:&nbsp\;</span><a href="http://gurleyvitale.com/lawyers/david-e-gurley" style="line-height: 20.7999992370605px\;">David E.&nbsp\;Gurley</a>
LOCATION:MSBIA Office 6983 Professional Parkway East Sarasota\, FL 34240
UID:e.9232.10
SEQUENCE:3
DTSTAMP:20260421T185152Z
URL:https://business.suncoastba.org/events/details/remodelers-council-meeting-08-20-2015-10
END:VEVENT

END:VCALENDAR
