BEGIN:VCALENDAR
VERSION:2.0
PRODID:-//ChamberMaster//Event Calendar 2.0//EN
METHOD:PUBLISH
X-PUBLISHED-TTL:P3D
REFRESH-INTERVAL:P3D
CALSCALE:GREGORIAN
BEGIN:VEVENT
DTSTART:20150923T153000Z
DTEND:20150923T170000Z
X-MICROSOFT-CDO-ALLDAYEVENT:FALSE
SUMMARY:Remodelers Council Meeting
DESCRIPTION:The September Remodelers Council will be joining the education class on September 23rd. Managing Business Growth for Profitability (and Sanity) How to take care of yourself\, your business and your bottom line. Click Here to register online.
X-ALT-DESC;FMTTYPE=text/html:<span style="color:#000000\;"><span style="font-size:14px\;">The September&nbsp\;Remodelers Council will be joining the education class on September 23rd.&nbsp\;<span style="font-family: 'Open Sans'\, sans-serif\; font-weight: inherit\; line-height: 32.5px\;">Managing Business Growth for Profitability (and Sanity) How to take care of yourself\, your business and your bottom line. <a href="http://business.ms-bia.org/events/details/managing-business-growth-for-profitability-and-sanity-how-to-take-care-of-yourself-your-business-and-your-bottom-line-905">Click Here to register online.</a></span></span></span>
LOCATION:MSBIA Office 6983 Professional Parkway East Sarasota\, FL 34240
UID:e.9232.11
SEQUENCE:3
DTSTAMP:20260421T173230Z
URL:https://business.suncoastba.org/events/details/remodelers-council-meeting-09-23-2015-11
END:VEVENT

END:VCALENDAR
