BEGIN:VCALENDAR
VERSION:2.0
PRODID:-//ChamberMaster//Event Calendar 2.0//EN
METHOD:PUBLISH
X-PUBLISHED-TTL:P3D
REFRESH-INTERVAL:P3D
CALSCALE:GREGORIAN
BEGIN:VEVENT
DTSTART;VALUE=DATE:20150514
DTEND;VALUE=DATE:20150515
TRANSP:TRANSPARENT
X-MICROSOFT-CDO-ALLDAYEVENT:TRUE
SUMMARY:RESIDENTIAL AND COMMERICAL ENERGY CODES
DESCRIPTION:FLORIDA BUILDING CODE \n\nThe Florida Building Code Compliance and Mitigation Program is a training and outreach program for individuals in the construction industry\, specifically building code administrators and inspectors\, architects\, engineers\, construction contractors and other professionals in the field of construction. The program is funded by the Florida Department of Business and Professional Regulations (DBPR) and administered by Building A Safer Florida\, Inc. (BASF).\n\nBrand New in 2015   Open to Your Employees: The training sessions are now open to all employees in the design and construction industries. In order to attend\, the employee must bring a letter from their design/construction licensed employer OR a copy of their workers compensation insurance/exemption.\n\n \n\nFLORIDA ENERGY CODE\n\nResidential and Commercial Energy Code: Attendees will learn which building energy code sections were added\, deleted and altered\, and receive details on the most significant changes that will impact their businesses.
X-ALT-DESC;FMTTYPE=text/html:<h3 style="margin: 0px 0px 15px\; padding: 0px\; border: 0px rgb(0\, 0\, 0)\; font-family: Montserrat\; font-size: 20px\; font-stretch: inherit\; line-height: 1.3\; vertical-align: baseline\; color: rgb(22\, 138\, 55)\; text-align: center\;"><span style="font-family:arial\;"><span style="margin: 0px\; padding: 0px\; border: 0px rgb(0\, 0\, 0)\; font-size: inherit\; font-style: inherit\; font-variant: inherit\; font-weight: inherit\; font-stretch: inherit\; line-height: inherit\; vertical-align: baseline\; color: rgb(0\, 0\, 128)\;"><strong style="margin: 0px\; padding: 0px\; border: 0px rgb(0\, 0\, 0)\; font-family: inherit\; font-size: inherit\; font-style: inherit\; font-variant: inherit\; font-stretch: inherit\; line-height: inherit\; vertical-align: baseline\;">FLORIDA BUILDING CODE&nbsp\;</strong></span></span></h3>\n\n<p style="margin: 0px 0px 20px\; padding: 0px\; border: 0px rgb(0\, 0\, 0)\; font-family: Raleway\; font-size: 15px\; font-stretch: inherit\; line-height: 23.25px\; vertical-align: baseline\; color: rgb(54\, 54\, 54)\;"><span style="font-family:arial\;">The Florida Building Code Compliance and Mitigation Program is a training and outreach program for individuals in the construction industry\, specifically building code administrators and inspectors\, architects\, engineers\, construction contractors and other professionals in the field of construction. The program is funded by the Florida Department of Business and Professional Regulations (DBPR) and administered by Building A Safer Florida\, Inc. (BASF).</span></p>\n\n<p style="margin: 0px 0px 20px\; padding: 0px\; border: 0px rgb(0\, 0\, 0)\; font-family: Raleway\; font-size: 15px\; font-stretch: inherit\; line-height: 23.25px\; vertical-align: baseline\; color: rgb(54\, 54\, 54)\;"><span style="font-family:arial\;"><strong style="margin: 0px\; padding: 0px\; border: 0px rgb(0\, 0\, 0)\; font-family: inherit\; font-size: inherit\; font-style: inherit\; font-variant: inherit\; font-stretch: inherit\; line-height: inherit\; vertical-align: baseline\;">Brand New in 2015 &ndash\; Open to Your Employees:&nbsp\;</strong>The training sessions are now open to all employees in the design and construction industries.&nbsp\;In order to attend\, the employee must bring a letter from their design/construction licensed employer OR a copy of their workers compensation insurance/exemption.</span></p>\n\n<p style="margin: 0px 0px 20px\; padding: 0px\; border: 0px rgb(0\, 0\, 0)\; font-family: Raleway\; font-size: 15px\; font-stretch: inherit\; line-height: 23.25px\; vertical-align: baseline\; color: rgb(54\, 54\, 54)\;">&nbsp\;</p>\n\n<h3 style="margin: 0px 0px 15px\; padding: 0px\; border: 0px rgb(0\, 0\, 0)\; font-family: Montserrat\; font-size: 20px\; font-stretch: inherit\; line-height: 1.3\; vertical-align: baseline\; color: rgb(22\, 138\, 55)\; text-align: center\;"><span style="font-family:arial\;"><span style="margin: 0px\; padding: 0px\; border: 0px rgb(0\, 0\, 0)\; font-size: inherit\; font-style: inherit\; font-variant: inherit\; font-weight: inherit\; font-stretch: inherit\; line-height: inherit\; vertical-align: baseline\; color: rgb(0\, 0\, 128)\;"><strong style="margin: 0px\; padding: 0px\; border: 0px rgb(0\, 0\, 0)\; font-family: inherit\; font-size: inherit\; font-style: inherit\; font-variant: inherit\; font-stretch: inherit\; line-height: inherit\; vertical-align: baseline\;">FLORIDA ENERGY&nbsp\;CODE</strong></span></span></h3>\n\n<p style="margin: 0px 0px 20px\; padding: 0px\; border: 0px rgb(0\, 0\, 0)\; font-family: Raleway\; font-size: 15px\; font-stretch: inherit\; line-height: 23.25px\; vertical-align: baseline\; color: rgb(54\, 54\, 54)\;"><span style="font-family:arial\;">Residential and Commercial Energy Code:&nbsp\;Attendees will learn which building energy code sections were added\,&nbsp\;deleted and altered\, and receive details on the most significant changes&nbsp\;that will impact their businesses.</span></p>\n
LOCATION:Kimel Lumber 11184 Hughley-Kimal Drive Venice\, FL 34292
UID:e.9232.612
SEQUENCE:3
DTSTAMP:20260421T233042Z
URL:https://business.suncoastba.org/events/details/residential-and-commerical-energy-codes-05-14-2015-612
END:VEVENT

END:VCALENDAR
