BEGIN:VCALENDAR
VERSION:2.0
PRODID:-//ChamberMaster//Event Calendar 2.0//EN
METHOD:PUBLISH
X-PUBLISHED-TTL:P3D
REFRESH-INTERVAL:P3D
CALSCALE:GREGORIAN
BEGIN:VEVENT
DTSTART;VALUE=DATE:20170727
DTEND;VALUE=DATE:20170729
TRANSP:TRANSPARENT
X-MICROSOFT-CDO-ALLDAYEVENT:TRUE
SUMMARY:Sales Rally@ Southeastern Building Conference Gaylord Palms Resort
DESCRIPTION:The Southeast Building Conference represents a powerful business-building opportunity for companies that want to reach the huge home building market in the South.
X-ALT-DESC;FMTTYPE=text/html:The Southeast Building Conference represents a powerful business-building opportunity for companies that want to reach the huge home building market in the South.
LOCATION:When you step inside the luxurious Gaylord Palms Resort & Convention Center\, you'll be awestruck by our 4.5-acre soaring glass atrium with winding waterways and lush gardens. Here\, you'll find the best of Florida\, including the old-world spirit of St. Augustine\, the rustic charm of the Everglades\, and the festive energy of Key West all in one place! Our hotel's extraordinary service and superior amenities are conveniently located in the greater Orlando area\, within minutes to the Walt Disney
UID:e.9232.1758
SEQUENCE:3
DTSTAMP:20260422T184317Z
URL:https://business.suncoastba.org/events/details/sales-rally-southeastern-building-conference-gaylord-palms-resort-1758
END:VEVENT

END:VCALENDAR
