BEGIN:VCALENDAR
VERSION:2.0
PRODID:-//ChamberMaster//Event Calendar 2.0//EN
METHOD:PUBLISH
X-PUBLISHED-TTL:P3D
REFRESH-INTERVAL:P3D
CALSCALE:GREGORIAN
BEGIN:VEVENT
DTSTART:20180501T170000Z
DTEND:20180501T203000Z
X-MICROSOFT-CDO-ALLDAYEVENT:FALSE
SUMMARY:SamTram
DESCRIPTION:Realtors! Please join us May 1st for a Cinco de Mayo SamTram.\n\n\n\nEnjoy lite bites and drinks while you meet and greet with Builders and Sales Reps.\n\n\n\nModels by Cardel Homes\, John Cannon Homes\, Neal Signature Homes\, Stock Signature Homes and WCI a Lennar Co.\n\n\n\nClick Here for Full PDF
X-ALT-DESC;FMTTYPE=text/html:Realtors! Please join us May 1st for a Cinco de Mayo SamTram.<br />\n<br />\nEnjoy lite bites and drinks while you meet and greet with Builders and Sales Reps.<br />\n<br />\nModels by Cardel&nbsp\;Homes\, John Cannon Homes\, Neal Signature Homes\, Stock Signature Homes and WCI&nbsp\;a Lennar Co.<br />\n<br />\n<a href="https://chambermaster.blob.core.windows.net/userfiles/UserFiles/chambers/9232/File/samtram1.pdf">Click Here for Full PDF</a>
LOCATION:The Retreat ~ Lakewood Ranch 7340 Bellefield Way Lakewood Ranch\, FL 34202
UID:e.9232.1874
SEQUENCE:3
DTSTAMP:20260423T110728Z
URL:https://business.suncoastba.org/events/details/samtram-1874
END:VEVENT

END:VCALENDAR
