BEGIN:VCALENDAR
VERSION:2.0
PRODID:-//ChamberMaster//Event Calendar 2.0//EN
METHOD:PUBLISH
X-PUBLISHED-TTL:P3D
REFRESH-INTERVAL:P3D
CALSCALE:GREGORIAN
BEGIN:VEVENT
DTSTART:20200427T143000Z
DTEND:20200427T153000Z
X-MICROSOFT-CDO-ALLDAYEVENT:FALSE
SUMMARY:Sarasota County Update
DESCRIPTION:The MSBIA presents a Sarasota County Update with Commissioner\, Michael Moran and Director of Governmental Relations\, Rob Lewis.
X-ALT-DESC;FMTTYPE=text/html:The MSBIA presents a Sarasota County Update with Commissioner\, Michael Moran and Director of Governmental Relations\, Rob Lewis.
LOCATION:Virtual Zoom Meeting - YOU MUST REGISTER TO RECEIVE THE MEETING CODE!
UID:e.9232.2596
SEQUENCE:3
DTSTAMP:20260423T231855Z
URL:https://business.suncoastba.org/events/details/sarasota-county-update-2596
END:VEVENT

END:VCALENDAR
