BEGIN:VCALENDAR
VERSION:2.0
PRODID:-//ChamberMaster//Event Calendar 2.0//EN
METHOD:PUBLISH
X-PUBLISHED-TTL:P3D
REFRESH-INTERVAL:P3D
CALSCALE:GREGORIAN
BEGIN:VEVENT
DTSTART:20210511T200000Z
DTEND:20210511T210000Z
X-MICROSOFT-CDO-ALLDAYEVENT:FALSE
SUMMARY:Sarasota Slam Committee Meeting
DESCRIPTION:Interested in being on the Sarasota Slam crew? Join us for a committee meeting to learn more.
X-ALT-DESC;FMTTYPE=text/html:Interested in being on the Sarasota Slam crew? Join us for a committee meeting to learn more.&nbsp\;&nbsp\;&nbsp\;&nbsp\;&nbsp\;&nbsp\;&nbsp\;&nbsp\;
LOCATION:Taylor Morrison Office 551 N Cattlemen Road #200 Sarasota\, FL 34232
UID:e.9232.2665
SEQUENCE:3
DTSTAMP:20260423T040917Z
URL:https://business.suncoastba.org/events/details/sarasota-slam-committee-meeting-2665
END:VEVENT

END:VCALENDAR
