BEGIN:VCALENDAR
VERSION:2.0
PRODID:-//ChamberMaster//Event Calendar 2.0//EN
METHOD:PUBLISH
X-PUBLISHED-TTL:P3D
REFRESH-INTERVAL:P3D
CALSCALE:GREGORIAN
BEGIN:VEVENT
DTSTART:20220815T210000Z
DTEND:20220815T213000Z
X-MICROSOFT-CDO-ALLDAYEVENT:FALSE
SUMMARY:Sarasota Slam Committee Meeting
DESCRIPTION:Interested in being on the Sarasota Slam crew? Join us for a committee meeting to learn more.
X-ALT-DESC;FMTTYPE=text/html:Interested in being on the Sarasota Slam crew? Join us for a committee meeting to learn more.&nbsp\;&nbsp\;&nbsp\;&nbsp\;&nbsp\;&nbsp\;&nbsp\;&nbsp\;
LOCATION:MSBIA Office
UID:e.9232.3122
SEQUENCE:3
DTSTAMP:20260422T062158Z
URL:https://business.suncoastba.org/events/details/sarasota-slam-committee-meeting-3122
END:VEVENT

END:VCALENDAR
