BEGIN:VCALENDAR
VERSION:2.0
PRODID:-//ChamberMaster//Event Calendar 2.0//EN
METHOD:PUBLISH
X-PUBLISHED-TTL:P3D
REFRESH-INTERVAL:P3D
CALSCALE:GREGORIAN
BEGIN:VEVENT
DTSTART:20210803T160000Z
DTEND:20210807T220000Z
X-MICROSOFT-CDO-ALLDAYEVENT:FALSE
SUMMARY:SARASOTA SLAM - MSBIA Fishing Tournament
DESCRIPTION:Join us for the 21st Annual Sarasota Slam Fishing Tournament!\n\nBillfish\, Offshore\, Funfish\, Inshore and Jr. Anglers divisions.  There will be mandatory captains meetings prior to anglers being released to fish. \n\n Billfish Captains Meeting is at 6pm on Tuesday\, August 3rd\, Offshore Captains Meeting is at 11am on Thursday\, August 5th.  Inshore Captains Meeting is at 5pm on Friday August 6th.\n\n\n\nWeigh-in\, silent auction and raffles on Saturday\, August 7th starting at 11:00am. Followed by a great party. This year's Silent Auction proceeds will benefit the Sarasota Sportsmen Association.
X-ALT-DESC;FMTTYPE=text/html:<p><span style="font-size: 12px\; font-family: arial\;"><span font-size:="" helvetica="" line-height:="" style="color: rgb(63\, 63\, 63)\;">Join us for the&nbsp\;21st Annual Sarasota Slam Fishing Tournament!</span></span></p>\n\n<p><span style="font-size: 12px\; font-family: arial\;"><span font-size:="" helvetica="" line-height:="" style="color: rgb(63\, 63\, 63)\;">Billfish\, Offshore\, Funfish\, Inshore and Jr. Anglers divisions.&nbsp\; There will be mandatory&nbsp\;captains meetings prior to anglers being released to&nbsp\;</span></span><span style="font-size: 12px\; font-family: arial\;"><span font-size:="" helvetica="" line-height:="" style="color: rgb(63\, 63\, 63)\;">fish.&nbsp\;</span></span></p>\n\n<p><span style="font-size: 12px\; font-family: arial\;"><span font-size:="" helvetica="" line-height:="" style="color: rgb(63\, 63\, 63)\;">&nbsp\;Billfish Captains Meeting is at 6pm on Tuesday\, August 3rd\,&nbsp\;</span></span><span style="font-size: 12px\; color: rgb(63\, 63\, 63)\; font-family: arial\;">Offshore Captains Meeting is at 11am on Thursday\, August 5</span><span style="font-size:12px\;">th<span style="font-family: Roboto\, sans-serif\;">.&nbsp\;</span></span><span style="font-size: 12px\; font-family: arial\;"><span font-size:="" helvetica="" line-height:="" style="color: rgb(63\, 63\, 63)\;">&nbsp\;Inshore Captains Meeting is at&nbsp\;5pm&nbsp\;on Friday August&nbsp\;6th.</span><br />\n<br background-attachment:="" background-clip:="" background-image:="" background-origin:="" background-position:="" background-repeat:="" background-size:="" border-collapse:="" border-radius:="" border:="" height:="" helvetica="" left:="" line-height:="" margin:="" max-height:="" max-width:="" min-height:="" min-width:="" opacity:="" outline-offset:="" overflow:="" padding:="" position:="" resize:="" right:="" style="box-sizing: content-box\; bottom: auto\; clear: none\; color: rgb(63\, 63\, 63)\; content: normal\; direction: inherit\; display: inline\; empty-cells: show\; float: none\; font-stretch: inherit\; font-size: 14px\;" table-layout:="" text-overflow:="" top:="" vertical-align:="" visibility:="" width:="" word-break:="" word-wrap:="" z-index:="" />\n<span font-size:="" helvetica="" line-height:="" style="color: rgb(63\, 63\, 63)\;">Weigh-in\, silent auction and raffles on Saturday\, August 7th&nbsp\;starting at&nbsp\;11:00am. Followed by a great party. This year&#39\;s Silent Auction proceeds will benefit the Sarasota Sportsmen Association.</span></span></p>\n
LOCATION:Marina Jack 1 Marina Plaza Sarasota\, FL 34236 or LATITUDE 29' 19.98 LONGITUDE 82' 2.78
UID:e.9232.2641
SEQUENCE:3
DTSTAMP:20260423T003641Z
URL:https://business.suncoastba.org/events/details/sarasota-slam-msbia-fishing-tournament-2641
END:VEVENT

END:VCALENDAR
