BEGIN:VCALENDAR
VERSION:2.0
PRODID:-//ChamberMaster//Event Calendar 2.0//EN
METHOD:PUBLISH
X-PUBLISHED-TTL:P3D
REFRESH-INTERVAL:P3D
CALSCALE:GREGORIAN
BEGIN:VEVENT
DTSTART;VALUE=DATE:20150716
DTEND;VALUE=DATE:20150719
TRANSP:TRANSPARENT
X-MICROSOFT-CDO-ALLDAYEVENT:TRUE
SUMMARY:SEBC Southeast Builder Conference
DESCRIPTION:Currently celebrating 37 years in the industry\, The Southeast Building Conference (SEBC) is the largest building industry trade show in the southeast. As the premier trade event\, the SEBC includes outstanding educational programs featuring three days of hard-hitting seminars\, networking opportunities\, round table discussions and industry briefings.\n\n\n\nThe 2015 SEBC is a two-day (July 17-18) Expo Show and a three-day (July 16-18) networking\, professional development and continuing education conference for anyone and everyone working in the building industry.
X-ALT-DESC;FMTTYPE=text/html:Currently celebrating 37 years in the industry\, The Southeast Building Conference (SEBC) is the largest building industry trade show in the southeast. As the premier trade event\, the SEBC includes outstanding educational programs featuring three days of hard-hitting seminars\, networking opportunities\, round table discussions and industry briefings.<br />\n<br />\nThe 2015 SEBC is a two-day (July 17-18) Expo Show and a three-day (July 16-18) networking\, professional development and continuing education conference for anyone and everyone working in the building industry.
LOCATION:9800 INTERNATIONAL DRIVE ORLANDO\, FL 32819 WEST HALL AS/3 CONFERENCE
UID:e.9232.889
SEQUENCE:3
DTSTAMP:20260421T195307Z
URL:https://business.suncoastba.org/events/details/sebc-southeast-builder-conference-07-16-2015-889
END:VEVENT

END:VCALENDAR
