BEGIN:VCALENDAR
VERSION:2.0
PRODID:-//ChamberMaster//Event Calendar 2.0//EN
METHOD:PUBLISH
X-PUBLISHED-TTL:P3D
REFRESH-INTERVAL:P3D
CALSCALE:GREGORIAN
BEGIN:VEVENT
DTSTART:20200423T180000Z
DTEND:20200423T190000Z
X-MICROSOFT-CDO-ALLDAYEVENT:FALSE
SUMMARY:Senator Joe Gruters Zoom Meeting
DESCRIPTION:Join us for an informative Zoom Meeting with Senator Joe Gruters.\n\nLIMITED TO 100 ATTENDEES
X-ALT-DESC;FMTTYPE=text/html:Join us for an informative Zoom Meeting with Senator Joe Gruters.<br />\n<strong>LIMITED TO 100 ATTENDEES</strong>
LOCATION:Virtual Zoom Meeting - YOU MUST REGISTER TO RECEIVE THE CODE!
UID:e.9232.2592
SEQUENCE:3
DTSTAMP:20260423T232226Z
URL:https://business.suncoastba.org/events/details/senator-joe-gruters-zoom-meeting-2592
END:VEVENT

END:VCALENDAR
