BEGIN:VCALENDAR
VERSION:2.0
PRODID:-//ChamberMaster//Event Calendar 2.0//EN
METHOD:PUBLISH
X-PUBLISHED-TTL:P3D
REFRESH-INTERVAL:P3D
CALSCALE:GREGORIAN
BEGIN:VEVENT
DTSTART:20160321T130000Z
DTEND:20160321T160000Z
X-MICROSOFT-CDO-ALLDAYEVENT:FALSE
SUMMARY:Set Your Sales on Fire Seminar
DESCRIPTION:Click here for the March 21st flyer.\n\n\n\nRegister for March 21st and the April 25th seminar and pay only $99\n\n\n\nClick Here for sponsorship opportunities.
X-ALT-DESC;FMTTYPE=text/html:<br />\n<a href="https://chambermaster.blob.core.windows.net/userfiles/UserFiles/chambers/9232/File/SMCMarch21Seminar.pdf">Click here for the March 21st flyer.</a><br />\n<br />\nRegister for March 21st&nbsp\;and the April 25th seminar and pay only $99<br />\n<br />\n<a href="https://chambermaster.blob.core.windows.net/userfiles/UserFiles/chambers/9232/File/SMCSeminarSponsors.pdf">Click Here for sponsorship opportunities</a>.
LOCATION:Polo Grill & Bar 10670 Boardwalk Loop Lakewood Ranch\, FL 34
UID:e.9232.1389
SEQUENCE:3
DTSTAMP:20260421T160338Z
URL:https://business.suncoastba.org/events/details/set-your-sales-on-fire-seminar-03-21-2016-1389
END:VEVENT

END:VCALENDAR
