BEGIN:VCALENDAR
VERSION:2.0
PRODID:-//ChamberMaster//Event Calendar 2.0//EN
METHOD:PUBLISH
X-PUBLISHED-TTL:P3D
REFRESH-INTERVAL:P3D
CALSCALE:GREGORIAN
BEGIN:VEVENT
DTSTART:20170324T120000Z
DTEND:20170324T140000Z
X-MICROSOFT-CDO-ALLDAYEVENT:FALSE
SUMMARY:SMC Breakfast & Panel Discussion
DESCRIPTION:Realtors\, please join us for our March MS-SMC Breakfast. This FREE event will be a panelist discussion and will feature several leading new home sales professionals and managers as well as real-estate professionals discussing how to easily sell new homes.\n\n\nCatered by TooJay's\n\n\n\nScheduled speakers:\n\n\n\nModerator - Jeff Eslinger\, Sales Manager - Neal Signature Homes\n\nDavid Hunihan\, Area President Sarasota/Manatee - M/I Homes\n\nGregg Carlson\, CEO - Lee Wetherington Homes\n\nAlex Beasley\, Sales Associate - Medallion Home\n\nBlaise Bright\, Sales Professional - John Cannon Homes\n\nDebbie Turner\, President/Realtor - Turner Real Estate Network
X-ALT-DESC;FMTTYPE=text/html:<div>\n<p style="margin: 0px\;"><span style="margin: 0px\;"><span style="margin: 0px\; color: rgb(63\, 63\, 63)\; font-family: &quot\;Helvetica&quot\;\,sans-serif\; font-size: 10.5pt\;">Realtors\,&nbsp\;please join us for our&nbsp\;March MS-SMC Breakfast. This FREE event will be a panelist discussion and will feature several leading new home sales professionals and managers as well as real-estate professionals discussing how to easily sell new homes.</span></span></p>\n<br />\n<span class="_4n-j _3cht fsl" data-testid="event-permalink-details">Catered by TooJay&#39\;s<br />\n<br />\nScheduled speakers:<br />\n<br />\nModerator - Jeff Eslinger\, Sales Manager - Neal Signature Homes<br />\nDavid Hunihan\, Area President Sarasota/Manatee - M/I Homes<br />\nGregg Carlson\,&nbsp\;CEO - Lee Wetherington&nbsp\;Homes<br />\nAlex Beasley\,&nbsp\;Sales Associate - Medallion Home<br />\nBlaise Bright\,&nbsp\;Sales Professional - John Cannon Homes</span><br />\n<span data-offset-key="c6us3-0-0"><span data-text="true">Debbie Turner\, President/Realtor - Turner Real Estate Network</span></span></div>\n
LOCATION:Realtor Association of Sarasota Manatee (RASM) Manatee County office - 10910 Technology Terrace\, Bradenton (LWR) 34211
UID:e.9232.1736
SEQUENCE:3
DTSTAMP:20260422T120117Z
URL:https://business.suncoastba.org/events/details/smc-breakfast-panel-discussion-1736
END:VEVENT

END:VCALENDAR
