BEGIN:VCALENDAR
VERSION:2.0
PRODID:-//ChamberMaster//Event Calendar 2.0//EN
METHOD:PUBLISH
X-PUBLISHED-TTL:P3D
REFRESH-INTERVAL:P3D
CALSCALE:GREGORIAN
BEGIN:VEVENT
DTSTART:20210902T213000Z
DTEND:20210903T020000Z
X-MICROSOFT-CDO-ALLDAYEVENT:FALSE
SUMMARY:SMC Celebration of Excellence Awards
DESCRIPTION:Sponsorship Package\n\n\n\nSales Entry Form\n\n\n\nMarketing Awards
X-ALT-DESC;FMTTYPE=text/html:<span style="font-size:20px\;"><span style="font-family:arial\;"><a href="https://chambermaster.blob.core.windows.net/userfiles/UserFiles/chambers/9232/File/CelebrationofExcellenceSponsorships.pdf">Sponsorship Package</a><br />\n<br />\n<a href="https://chambermaster.blob.core.windows.net/userfiles/UserFiles/chambers/9232/File/SalesEntryForm1.pdf">Sales Entry Form</a><br />\n<br />\n<a href="https://floridahomelife.com/index.php/marketing-entry-form">Marketing Awards&nbsp\;</a></span></span>
LOCATION:Art Ovation Hotel Downtown Sarasota 1255 N Palm Ave\, Sarasota\, FL 34236
UID:e.9232.2642
SEQUENCE:3
DTSTAMP:20260422T225650Z
URL:https://business.suncoastba.org/events/details/smc-celebration-of-excellence-awards-2642
END:VEVENT

END:VCALENDAR
