BEGIN:VCALENDAR
VERSION:2.0
PRODID:-//ChamberMaster//Event Calendar 2.0//EN
METHOD:PUBLISH
X-PUBLISHED-TTL:P3D
REFRESH-INTERVAL:P3D
CALSCALE:GREGORIAN
BEGIN:VEVENT
DTSTART:20200204T220000Z
DTEND:20200205T000000Z
X-MICROSOFT-CDO-ALLDAYEVENT:FALSE
SUMMARY:SMC Happy Hour
DESCRIPTION:Join the Sales & Marketing Council as we kick off the year with a happy hour mixer!
X-ALT-DESC;FMTTYPE=text/html:Join the Sales &amp\; Marketing Council as we kick off the year with a happy hour mixer!<br />\n<br />\n&nbsp\;
LOCATION:GROVE 10670 Boardwalk Loop Lakewood Ranch\, FL 34202
UID:e.9232.2546
SEQUENCE:3
DTSTAMP:20260424T023004Z
URL:https://business.suncoastba.org/events/details/smc-happy-hour-2546
END:VEVENT

END:VCALENDAR
