BEGIN:VCALENDAR
VERSION:2.0
PRODID:-//ChamberMaster//Event Calendar 2.0//EN
METHOD:PUBLISH
X-PUBLISHED-TTL:P3D
REFRESH-INTERVAL:P3D
CALSCALE:GREGORIAN
BEGIN:VEVENT
DTSTART:20210331T210000Z
DTEND:20210331T230000Z
X-MICROSOFT-CDO-ALLDAYEVENT:FALSE
SUMMARY:SMC Happy Hour
DESCRIPTION:Join the Sales & Marketing Council with a happy hour mixer at GROVE Lakewood Ranch. Sponsored by BB&T.
X-ALT-DESC;FMTTYPE=text/html:<span background-color:="" font-size:="" style="color: rgb(51\, 51\, 51)\; font-family: sans-serif\, Arial\, Verdana\, " trebuchet="">Join the Sales &amp\; Marketing Council with a happy hour mixer at GROVE Lakewood Ranch. Sponsored by BB&amp\;T.&nbsp\;</span>
LOCATION:GROVE LWR 10670 Boardwalk Loop LWR\, FL 34202
UID:e.9232.2643
SEQUENCE:3
DTSTAMP:20260423T065008Z
URL:https://business.suncoastba.org/events/details/smc-happy-hour-2643
END:VEVENT

END:VCALENDAR
