BEGIN:VCALENDAR
VERSION:2.0
PRODID:-//ChamberMaster//Event Calendar 2.0//EN
METHOD:PUBLISH
X-PUBLISHED-TTL:P3D
REFRESH-INTERVAL:P3D
CALSCALE:GREGORIAN
BEGIN:VEVENT
DTSTART:20220217T213000Z
DTEND:20220217T233000Z
X-MICROSOFT-CDO-ALLDAYEVENT:FALSE
SUMMARY:SMC Happy Hour
DESCRIPTION:Join the SMC for a Happy Hour\, come learn more about what the committee does and what is in store for 2022!
X-ALT-DESC;FMTTYPE=text/html:Join the SMC for a Happy Hour\, come learn more about what the committee does and what is in store for 2022!
LOCATION:Brine 2250 Gulf Gate Drive Sarasota\, FL 34231
UID:e.9232.2845
SEQUENCE:3
DTSTAMP:20260422T154821Z
URL:https://business.suncoastba.org/events/details/smc-happy-hour-2845
END:VEVENT

END:VCALENDAR
