BEGIN:VCALENDAR
VERSION:2.0
PRODID:-//ChamberMaster//Event Calendar 2.0//EN
METHOD:PUBLISH
X-PUBLISHED-TTL:P3D
REFRESH-INTERVAL:P3D
CALSCALE:GREGORIAN
BEGIN:VEVENT
DTSTART:20221020T203000Z
DTEND:20221020T223000Z
X-MICROSOFT-CDO-ALLDAYEVENT:FALSE
SUMMARY:Soirée with the BIA
DESCRIPTION:Grab a co-worker or friend and come out to mix and mingle with MSBIA members. Whether you are young or young at heart join us for some cocktails\, appetizers and networking fun!
X-ALT-DESC;FMTTYPE=text/html:<span background-color:="" font-size:="" style="color: rgb(51\, 51\, 51)\; font-family: sans-serif\, Arial\, Verdana\, " trebuchet="">Grab a co-worker or friend and come out to mix and mingle with MSBIA members. Whether you are young or young at heart join us for some cocktails\, appetizers and networking fun!</span>
LOCATION:3055 Fruitville Commons Blvd. Sarasota\, FL 34240
UID:e.9232.2838
SEQUENCE:3
DTSTAMP:20260422T045225Z
URL:https://business.suncoastba.org/events/details/soir&#233;e-with-the-bia-2838
END:VEVENT

END:VCALENDAR
