BEGIN:VCALENDAR
VERSION:2.0
PRODID:-//ChamberMaster//Event Calendar 2.0//EN
METHOD:PUBLISH
X-PUBLISHED-TTL:P3D
REFRESH-INTERVAL:P3D
CALSCALE:GREGORIAN
BEGIN:VEVENT
DTSTART:20160929T200000Z
DTEND:20160929T210000Z
X-MICROSOFT-CDO-ALLDAYEVENT:FALSE
SUMMARY:Sporting Clays Committee Meeting
DESCRIPTION:Committee Meeting
X-ALT-DESC;FMTTYPE=text/html:Committee Meeting
LOCATION:MSBIA office 6983 Professional Parkway East Sarasota\, FL 34240
UID:e.9232.1543
SEQUENCE:3
DTSTAMP:20260422T011636Z
URL:https://business.suncoastba.org/events/details/sporting-clays-committee-meeting-1543
END:VEVENT

END:VCALENDAR
