BEGIN:VCALENDAR
VERSION:2.0
PRODID:-//ChamberMaster//Event Calendar 2.0//EN
METHOD:PUBLISH
X-PUBLISHED-TTL:P3D
REFRESH-INTERVAL:P3D
CALSCALE:GREGORIAN
BEGIN:VEVENT
DTSTART:20210915T210000Z
DTEND:20210915T213000Z
X-MICROSOFT-CDO-ALLDAYEVENT:FALSE
SUMMARY:Sporting Clays Committee Meeting
DESCRIPTION:Sporting Clays Committee Meeting
X-ALT-DESC;FMTTYPE=text/html:Sporting Clays Committee Meeting&nbsp\;&nbsp\;&nbsp\;&nbsp\;&nbsp\;&nbsp\;&nbsp\;&nbsp\;
LOCATION:6650 Professional Pkwy Suite 102 Sarasota\, FL 34240
UID:e.9232.2675
SEQUENCE:3
DTSTAMP:20260422T225406Z
URL:https://business.suncoastba.org/events/details/sporting-clays-committee-meeting-2675
END:VEVENT

END:VCALENDAR
