BEGIN:VCALENDAR
VERSION:2.0
PRODID:-//ChamberMaster//Event Calendar 2.0//EN
METHOD:PUBLISH
X-PUBLISHED-TTL:P3D
REFRESH-INTERVAL:P3D
CALSCALE:GREGORIAN
BEGIN:VEVENT
DTSTART:20151106T170000Z
DTEND:20151106T210000Z
X-MICROSOFT-CDO-ALLDAYEVENT:FALSE
SUMMARY:Sporting Clays Event
DESCRIPTION:Join us for the 2015 Sporting Clays event! \n\nOnly $400.00 per team when you sign up by October 23rd ($450 after)\n\n(includes: 50 targets\, 12 or 20 gauge shotgun shells)\n\n\n\nLimited Shot Guns available for rent from the Club.\n\nReserve Early! Contact Knights Trail directly for details.\n\n\n\nRegistration & Warm Up 11:00 a.m. ~ Competition begins at 1pm\n\n\n\nClick here for sponsorship Opportunities
X-ALT-DESC;FMTTYPE=text/html:Join us for the 2015 Sporting Clays event!&nbsp\;<br />\nOnly $400.00&nbsp\;per team when you sign up by&nbsp\;October 23rd ($450 after)<br />\n(includes: 50 targets\, 12 or 20 gauge shotgun shells)<br />\n<br />\nLimited Shot Guns available for rent from the Club.<br />\nReserve Early! Contact Knights Trail directly for details.<br />\n<br />\nRegistration &amp\; Warm Up 11:00 a.m. ~ Competition begins at 1pm<br />\n<br />\n<a href="http://cloud.chambermaster.com/userfiles/UserFiles/chambers/9232/File/2015SportingClaysRegistration.pdf">Click here for sponsorship Opportunities</a>
LOCATION:SARASOTA TRAP\, SKEET & CLAYS Knights Trail Park 3445 Rustic Rd Nokomis\, FL 34275
UID:e.9232.609
SEQUENCE:3
DTSTAMP:20260421T141556Z
URL:https://business.suncoastba.org/events/details/sporting-clays-event-11-06-2015-609
END:VEVENT

END:VCALENDAR
