BEGIN:VCALENDAR
VERSION:2.0
PRODID:-//ChamberMaster//Event Calendar 2.0//EN
METHOD:PUBLISH
X-PUBLISHED-TTL:P3D
REFRESH-INTERVAL:P3D
CALSCALE:GREGORIAN
BEGIN:VEVENT
DTSTART:20171027T150000Z
DTEND:20171027T200000Z
X-MICROSOFT-CDO-ALLDAYEVENT:FALSE
SUMMARY:Sporting Clays Event
DESCRIPTION:Join us for the 2017 Sporting Clays event! \n\nOnly $400.00 per team when you sign up by October 13th ($450 after)\n\n(includes: 50 targets\, 12 or 20 gauge shotgun shells)\n\nGolf Cart Rental $25 Additional Charge\n\n\n\nLimited Shot Guns available for rent from the Club.\n\nReserve Early! Contact Knights Trail directly for details.\n\n\n\nRegistration\, Lunch & Warm Up 11:00 a.m. ~ Competition begins at 1pm\n\n\n\nCLICK HERE FOR THE REGISTRATION FOR AND SPONSORSHIPS!
X-ALT-DESC;FMTTYPE=text/html:Join us for the 2017 Sporting Clays event!&nbsp\;<br />\nOnly $400.00&nbsp\;per team when you sign up by&nbsp\;October 13th ($450 after)<br />\n(includes: 50 targets\, 12 or 20 gauge shotgun shells)<br />\nGolf Cart Rental $25 Additional Charge<br />\n<br />\nLimited Shot Guns available for rent from the Club.<br />\nReserve Early! Contact Knights Trail directly for details.<br />\n<br />\nRegistration\, Lunch &amp\; Warm Up 11:00 a.m. ~ Competition begins at 1pm<br />\n<br />\n<a href="https://chambermaster.blob.core.windows.net/userfiles/UserFiles/chambers/9232/File/SportingClaysRegistration.pdf"><span style="font-size:20px\;"><span style="color:#ff3300\;"><strong>CLICK HERE FOR THE REGISTRATION FOR AND SPONSORSHIPS!&nbsp\;</strong></span></span></a>
LOCATION:SARASOTA TRAP\, SKEET & CLAYS Knights Trail Park 3445 Rustic Rd Nokomis\, FL 34275
UID:e.9232.1767
SEQUENCE:3
DTSTAMP:20260422T225010Z
URL:https://business.suncoastba.org/events/details/sporting-clays-event-1767
END:VEVENT

END:VCALENDAR
