BEGIN:VCALENDAR
VERSION:2.0
PRODID:-//ChamberMaster//Event Calendar 2.0//EN
METHOD:PUBLISH
X-PUBLISHED-TTL:P3D
REFRESH-INTERVAL:P3D
CALSCALE:GREGORIAN
BEGIN:VEVENT
DTSTART:20160506T160000Z
DTEND:20160506T210000Z
X-MICROSOFT-CDO-ALLDAYEVENT:FALSE
SUMMARY:Spring Fling GOLF Tournament
DESCRIPTION:THIS WLL BE THE ONLY MSBIA GOLF TOURNAMENT THIS YEAR.\n\nJoin us for a great day of golf and networking at the beautiful location. Bring your colleagues or bring your clients. Always a great time with lots of prizes.\n\n\n\nBe a sponsor and show your support for MSBIA!\n\n$2000 Gold Sponsor\n\n$1000 Silver Sponsor\n\n$400 Banquet Sponsor\n\nBeverage Sponsor SOLD\n\n$200 Staffed Tee Sponsor\n\n$200 Builder Tee Sponsor\n\n$150 Specialty Contest Sponsor\n\n$100 Tee Sponsor \n\nClick here for PDF of sponsorship level details.
X-ALT-DESC;FMTTYPE=text/html:THIS WLL BE THE <strong><u><span style="color: rgb(0\, 0\, 205)\;">ONLY</span></u></strong> MSBIA GOLF TOURNAMENT THIS YEAR.<br />\nJoin us for a great day of golf and networking at the beautiful location. Bring your colleagues or bring your clients. Always a great time with lots of prizes.<br />\n<br />\nBe a sponsor and show your support for MSBIA!<br />\n$2000 Gold Sponsor<br />\n$1000 Silver Sponsor<br />\n$400 Banquet Sponsor<br />\nBeverage Sponsor SOLD<br />\n$200 Staffed Tee Sponsor<br />\n$200 Builder Tee Sponsor<br />\n$150 Specialty Contest Sponsor<br />\n$100 Tee Sponsor&nbsp\;<br />\n<a href="https://chambermaster.blob.core.windows.net/userfiles/UserFiles/chambers/9232/File/GolfSponsorships2016.pdf">Click here for PDF of sponsorship level details.</a>
LOCATION:Sarasota National 25510 National Blvd Venice\, FL 34293
UID:e.9232.1391
SEQUENCE:3
DTSTAMP:20260421T180917Z
URL:https://business.suncoastba.org/events/details/spring-fling-golf-tournament-05-06-2016-1391
END:VEVENT

END:VCALENDAR
