BEGIN:VCALENDAR
VERSION:2.0
PRODID:-//ChamberMaster//Event Calendar 2.0//EN
METHOD:PUBLISH
X-PUBLISHED-TTL:P3D
REFRESH-INTERVAL:P3D
CALSCALE:GREGORIAN
BEGIN:VEVENT
DTSTART:20210430T153000Z
DTEND:20210430T210000Z
X-MICROSOFT-CDO-ALLDAYEVENT:FALSE
SUMMARY:Spring Fling GOLF Tournament
DESCRIPTION:Join us for the annual Spring Fling Golf Tournament. Click Here for the Registration Form.\n\n\n\nDONT GOLF? BE A SPONSOR! If you don't golf and want to show off your products to the local building industry professionals\, we suggest you sponsor a staffed hole where you will have the opportunity to meet everyone out on the course!
X-ALT-DESC;FMTTYPE=text/html:<span style="background-color: rgb(255\, 255\, 255)\; color: rgb(29\, 33\, 41)\; font-family: Helvetica\, Arial\, sans-serif\; font-size: 14px\;">Join us for the annual Spring Fling Golf Tournament. <a href="https://chambermaster.blob.core.windows.net/userfiles/UserFiles/chambers/9232/File/SPRINGFLINGGOLF.pdf">Click Here</a> for the Registration Form.</span><br font-size:="" style="color: rgb(51\, 51\, 51)\; font-family: sans-serif\, Arial\, Verdana\, " trebuchet="" />\n<br style="background-color: rgb(255\, 255\, 255)\; color: rgb(29\, 33\, 41)\; font-family: Helvetica\, Arial\, sans-serif\; font-size: 14px\;" />\n<span style="background-color: rgb(255\, 255\, 255)\; color: rgb(29\, 33\, 41)\; font-family: Helvetica\, Arial\, sans-serif\; font-size: 14px\;">DONT GOLF? BE A SPONSOR! If you don&#39\;t golf and want to show off your products to the local building industry professionals\, we suggest you sponsor a staffed hole where you will have the opportunity to meet everyone out on the course!</span><br font-size:="" style="color: rgb(51\, 51\, 51)\; font-family: sans-serif\, Arial\, Verdana\, " trebuchet="" />\n<br font-size:="" style="color: rgb(51\, 51\, 51)\; font-family: sans-serif\, Arial\, Verdana\, " trebuchet="" />\n<br />\n<br />\n<br />\n&nbsp\;
LOCATION:Legacy Golf Club 8255 Legacy Blvd Bradenton\, FL 34202
UID:e.9232.2640
SEQUENCE:3
DTSTAMP:20260423T053139Z
URL:https://business.suncoastba.org/events/details/spring-fling-golf-tournament-2640
END:VEVENT

END:VCALENDAR
