BEGIN:VCALENDAR
VERSION:2.0
PRODID:-//ChamberMaster//Event Calendar 2.0//EN
METHOD:PUBLISH
X-PUBLISHED-TTL:P3D
REFRESH-INTERVAL:P3D
CALSCALE:GREGORIAN
BEGIN:VEVENT
DTSTART:20220407T213000Z
DTEND:20220408T010000Z
X-MICROSOFT-CDO-ALLDAYEVENT:FALSE
SUMMARY:State of the Economy
DESCRIPTION:Join us for "State of the Economy" featuring NAHB Chief Economist Robert Dietz.\n\n\n\nHear the latest about the economy\, what's in store for the future and what it means for your business.\n\n\n\nLearn more about the economic forecast in our local\, state and national governments. Also\, what ongoing political relations means for you.\n\n\n\n\n\nTickets limited do not miss your chance to attend!\n\n\n\nLots of networking\, dinner and informative information.
X-ALT-DESC;FMTTYPE=text/html:Join us for &quot\;State of the Economy&quot\; featuring NAHB Chief Economist Robert Dietz.<br />\n<br />\nHear the latest about the economy\, what&#39\;s in store for the future and what it means for your business.<br />\n<br />\nLearn more about the economic forecast in our local\, state and national governments. Also\, what ongoing political relations means for you.<br />\n<br />\n<br />\nTickets limited do not miss your chance to attend!<br />\n<br />\nLots of networking\, dinner and informative information.
LOCATION:GROVE Ballroom LWR 10670 Boardwalk Loop Lakewood Ranch\, FL 34240
UID:e.9232.2846
SEQUENCE:3
DTSTAMP:20260422T124938Z
URL:https://business.suncoastba.org/events/details/state-of-the-economy-2846
END:VEVENT

END:VCALENDAR
