BEGIN:VCALENDAR
VERSION:2.0
PRODID:-//ChamberMaster//Event Calendar 2.0//EN
METHOD:PUBLISH
X-PUBLISHED-TTL:P3D
REFRESH-INTERVAL:P3D
CALSCALE:GREGORIAN
BEGIN:VEVENT
DTSTART:20200521T180000Z
DTEND:20200521T190000Z
X-MICROSOFT-CDO-ALLDAYEVENT:FALSE
SUMMARY:State Update with Representative Will Robinson
DESCRIPTION:Join us for an update with State Representative Will Robinson!
X-ALT-DESC;FMTTYPE=text/html:Join us for an update with State Representative Will Robinson!
LOCATION:Virtual Zoom Meeting - YOU MUST REGISTER TO RECEIVE THE MEETING CODE!
UID:e.9232.2604
SEQUENCE:3
DTSTAMP:20260423T220035Z
URL:https://business.suncoastba.org/events/details/state-update-with-representative-will-robinson-2604
END:VEVENT

END:VCALENDAR
