BEGIN:VCALENDAR
VERSION:2.0
PRODID:-//ChamberMaster//Event Calendar 2.0//EN
METHOD:PUBLISH
X-PUBLISHED-TTL:P3D
REFRESH-INTERVAL:P3D
CALSCALE:GREGORIAN
BEGIN:VEVENT
DTSTART:20171005T213000Z
DTEND:20171005T233000Z
X-MICROSOFT-CDO-ALLDAYEVENT:FALSE
SUMMARY:Tailgate & Chili Cook Off
DESCRIPTION:As we kickoff the October / MONDAY NIGHT MEMBERSHIP DRIVE \, the MSBIA would like to invite you and encourage you to invite a Future Member to see what your local BIA has to offer!\n\nThere will be RAFFLES\, FOOD\, DRINKS\, CORNHOLE AND LOTS OF GREAT NETWORKING!\n\nOpt to bring your crockpot of chili (and any fixins you deem necessary) and we will find out who has the best of the best! Our members will be the judge! You could win a VALUABLE PRIZE!
X-ALT-DESC;FMTTYPE=text/html:As we kickoff the October /<a href="https://chambermaster.blob.core.windows.net/userfiles/UserFiles/chambers/9232/File/MondayNightFootballMembershipDrive.pdf"> <span style="color:#000080\;"><u>MONDAY NIGHT MEMBERSHIP DRIVE</u></span></a>&nbsp\;\, the MSBIA would like to invite you and encourage you to invite a&nbsp\;Future Member to see what your local BIA has to offer!<br />\nThere will be RAFFLES\, FOOD\, DRINKS\, CORNHOLE AND LOTS OF GREAT NETWORKING!<br />\n<span style="color:#B22222\;"><em><span style="font-size:16px\;"><strong>Opt to bring your crockpot of chili (and any fixins you deem necessary) and we will find out who has the best of the best! Our members will be the judge! You could win a VALUABLE PRIZE!&nbsp\;</strong></span></em></span><br />\n&nbsp\;
LOCATION:Manatee-Sarasota BIA Office 6650 Professional Parkway W\, Ste 102 Lakewood Ranch\, FL 34240
UID:e.9232.1778
SEQUENCE:3
DTSTAMP:20260422T225210Z
URL:https://business.suncoastba.org/events/details/tailgate-chili-cook-off-1778
END:VEVENT

END:VCALENDAR
