BEGIN:VCALENDAR
VERSION:2.0
PRODID:-//ChamberMaster//Event Calendar 2.0//EN
METHOD:PUBLISH
X-PUBLISHED-TTL:P3D
REFRESH-INTERVAL:P3D
CALSCALE:GREGORIAN
BEGIN:VEVENT
DTSTART:20200213T230000Z
DTEND:20200214T010000Z
X-MICROSOFT-CDO-ALLDAYEVENT:FALSE
SUMMARY:Tailgate & Chili Cook Off
DESCRIPTION:For our February GMM\, the MSBIA would like to invite you and encourage you to invite a Future Member to see what your local BIA has to offer!\n\n\n\nThere will be RAFFLES\, FOOD\, DRINKS\, CORNHOLE AND LOTS OF GREAT NETWORKING!\n\n\n\nOpt to bring your crockpot of chili (and any sides you need) and we will find out who has the best of the best! Our members will be the judge! You could win a VALUABLE PRIZE!
X-ALT-DESC;FMTTYPE=text/html:<span background-color:="" font-size:="" style="color: rgb(51\, 51\, 51)\; font-family: sans-serif\, Arial\, Verdana\, " trebuchet="">For our February GMM\, the MSBIA would like to invite you and encourage you to invite a&nbsp\;Future Member to see what your local BIA has to offer!</span><br />\n<br font-size:="" style="color: rgb(51\, 51\, 51)\; font-family: sans-serif\, Arial\, Verdana\, " trebuchet="" />\n<span background-color:="" font-size:="" style="color: rgb(51\, 51\, 51)\; font-family: sans-serif\, Arial\, Verdana\, " trebuchet="">There will be RAFFLES\, FOOD\, DRINKS\, CORNHOLE AND LOTS OF GREAT NETWORKING!</span><br />\n<br font-size:="" style="color: rgb(51\, 51\, 51)\; font-family: sans-serif\, Arial\, Verdana\, " trebuchet="" />\n<span color:="" font-size:="" style="font-family: sans-serif\, Arial\, Verdana\, " trebuchet=""><em><span style="font-size: 16px\;"><strong>Opt to bring your crockpot of chili (and any sides you need) and we will find out who has the best of the best! Our members will be the judge! You could win a VALUABLE PRIZE!&nbsp\;</strong></span></em></span><br />\n&nbsp\;
LOCATION:Manatee-Sarasota BIA Office 6650 Professional Parkway W\, Ste 102 Lakewood Ranch\, FL 34240
UID:e.9232.2541
SEQUENCE:3
DTSTAMP:20260424T030039Z
URL:https://business.suncoastba.org/events/details/tailgate-chili-cook-off-2541
END:VEVENT

END:VCALENDAR
